BEGIN:VCALENDAR
VERSION:2.0
PRODID:-//Laubenberger in Friedrichshafen - ECPv6.9.0//NONSGML v1.0//EN
CALSCALE:GREGORIAN
METHOD:PUBLISH
X-WR-CALNAME:Laubenberger in Friedrichshafen
X-ORIGINAL-URL:https://www.heilpraktikerin-laubenberger.de
X-WR-CALDESC:Veranstaltungen für Laubenberger in Friedrichshafen
REFRESH-INTERVAL;VALUE=DURATION:PT1H
X-Robots-Tag:noindex
X-PUBLISHED-TTL:PT1H
BEGIN:VTIMEZONE
TZID:Europe/Berlin
BEGIN:DAYLIGHT
TZOFFSETFROM:+0100
TZOFFSETTO:+0200
TZNAME:CEST
DTSTART:20250330T010000
END:DAYLIGHT
BEGIN:STANDARD
TZOFFSETFROM:+0200
TZOFFSETTO:+0100
TZNAME:CET
DTSTART:20251026T010000
END:STANDARD
END:VTIMEZONE
BEGIN:VEVENT
DTSTART;TZID=Europe/Berlin:20251118T200000
DTEND;TZID=Europe/Berlin:20251118T220000
DTSTAMP:20260421T143533
CREATED:20251013T080143Z
LAST-MODIFIED:20251013T080143Z
UID:1254-1763496000-1763503200@www.heilpraktikerin-laubenberger.de
SUMMARY:Ehrliches Mitteilen nach Gopal  -   Lokale Gruppe
DESCRIPTION:Ehrliches Mitteilen nach Gopal Norbert Klein – Lokale Gruppe \nEhrliches Mitteilen ist eine Kommunikationspraxis\, die von Gopal Norbert Klein entwickelt wurde. Es geht darum\, sich authentisch und klar auszudrücken – ohne Manipulation oder verdeckte Absichten. Ziel ist es\, mit der eigenen Wahrnehmung bei sich zu sein und sich gleichzeitig dem Umfeld mitzuteilen. So können sich tiefe Transformation\, innerer Frieden\, Ausgeglichenheit und Selbstheilung einstellen. \n– Arbeit in der Gruppe \n– Regelmäßige Treffen – jeden 3. Dienstag im Monat von 20.00 bis 22.00 Uhr \n– Anmeldung erforderlich \n\nRosalie (56) \nEs tut so gut\, alles auszusprechen\, was gerade da ist. \nViola (61) \nEndlich habe ich verstanden\, dass es kein richtig oder falsch gibt. Nur das\, was da ist zählt.
URL:https://www.heilpraktikerin-laubenberger.de/veranstaltung/ehrliches-mitteilen-nach-gopal-lokale-gruppe-12/
LOCATION:Psychotherapeutische Heilpraxis Saskia Laubenberger\, Kurzer Weg 11\, Friedrichshafen\, Baden-Württemberg\, 88045\, Deutschland
ATTACH;FMTTYPE=image/jpeg:https://www.heilpraktikerin-laubenberger.de/wp-content/uploads/2024/01/Unbenannt-1.jpg
END:VEVENT
END:VCALENDAR