BEGIN:VCALENDAR
VERSION:2.0
PRODID:-//Laubenberger in Friedrichshafen - ECPv6.9.0//NONSGML v1.0//EN
CALSCALE:GREGORIAN
METHOD:PUBLISH
X-ORIGINAL-URL:https://www.heilpraktikerin-laubenberger.de
X-WR-CALDESC:Veranstaltungen für Laubenberger in Friedrichshafen
REFRESH-INTERVAL;VALUE=DURATION:PT1H
X-Robots-Tag:noindex
X-PUBLISHED-TTL:PT1H
BEGIN:VTIMEZONE
TZID:Europe/Berlin
BEGIN:DAYLIGHT
TZOFFSETFROM:+0100
TZOFFSETTO:+0200
TZNAME:CEST
DTSTART:20250330T010000
END:DAYLIGHT
BEGIN:STANDARD
TZOFFSETFROM:+0200
TZOFFSETTO:+0100
TZNAME:CET
DTSTART:20251026T010000
END:STANDARD
END:VTIMEZONE
BEGIN:VEVENT
DTSTART;TZID=Europe/Berlin:20251123T093000
DTEND;TZID=Europe/Berlin:20251123T160000
DTSTAMP:20260421T143803
CREATED:20251013T083801Z
LAST-MODIFIED:20251013T084317Z
UID:1258-1763890200-1763913600@www.heilpraktikerin-laubenberger.de
SUMMARY:Aufstellungstag für Familiensysteme und systemische Aufstellungen
DESCRIPTION:Aufstellungstag für Familiensysteme und systemische Aufstellungen \nWas ist Dein Anliegen? \nTraumata\, unbewusste Verstrickungen\, ungelöste Konflikte und eine toxische Dynamik innerhalb einer Familie oder einem System können die Lebensqualität und das Wohlbefinden der einzelnen Mitglieder erheblich beeinträchtigen und krank machen.\nZiel der Aufstellungsarbeiten ist es\, diese Verstrickungen zu erkennen\, zu verstehen und aufzulösen\, um Heilung\, Harmonie\, Frienden und Veränderung zu ermöglichen.\nAufstellungsarbeiten sind eine tiefe und berührende Erfahrung menschlichen Miteinanders  auf Augenhöhe. Sie zeigen die Dynamiken auf\, die unsichtbar hinter den Anliegen wirken.  \nKosten:\nAufstellungsarbeit incl. *Vor- und Nachgespräch  160\,- €\nStellvertreter: Spendenbasis \n*Im Vorgespräch wird Dein Anliegen herausgearbeitet\, damit wir uns am Aufstellungstag gleich um die Aufstellung kümmern können. Das Vorgespräch kann telefonisch oder persönlich in der Praxis stattfinden. Ich bitte um rechtzeitige Terminab
URL:https://www.heilpraktikerin-laubenberger.de/veranstaltung/aufstellungstag-fuer-familiensysteme-und-systemische-aufstellungen-6/
LOCATION:Psychotherapeutische Heilpraxis Saskia Laubenberger\, Kurzer Weg 11\, Friedrichshafen\, Baden-Württemberg\, 88045\, Deutschland
ATTACH;FMTTYPE=image/jpeg:https://www.heilpraktikerin-laubenberger.de/wp-content/uploads/2025/10/family-2057305_1280.jpg
END:VEVENT
END:VCALENDAR